BEGIN:VCALENDAR
VERSION:2.0
PRODID:-//umunumo-freunde-bersenbrueck.de - ECPv6.15.20//NONSGML v1.0//EN
CALSCALE:GREGORIAN
METHOD:PUBLISH
X-ORIGINAL-URL:https://www.umunumo-freunde-bersenbrueck.de
X-WR-CALDESC:Veranstaltungen für umunumo-freunde-bersenbrueck.de
REFRESH-INTERVAL;VALUE=DURATION:PT1H
X-Robots-Tag:noindex
X-PUBLISHED-TTL:PT1H
BEGIN:VTIMEZONE
TZID:Europe/Berlin
BEGIN:DAYLIGHT
TZOFFSETFROM:+0100
TZOFFSETTO:+0200
TZNAME:CEST
DTSTART:20230326T010000
END:DAYLIGHT
BEGIN:STANDARD
TZOFFSETFROM:+0200
TZOFFSETTO:+0100
TZNAME:CET
DTSTART:20231029T010000
END:STANDARD
BEGIN:DAYLIGHT
TZOFFSETFROM:+0100
TZOFFSETTO:+0200
TZNAME:CEST
DTSTART:20240331T010000
END:DAYLIGHT
BEGIN:STANDARD
TZOFFSETFROM:+0200
TZOFFSETTO:+0100
TZNAME:CET
DTSTART:20241027T010000
END:STANDARD
BEGIN:DAYLIGHT
TZOFFSETFROM:+0100
TZOFFSETTO:+0200
TZNAME:CEST
DTSTART:20250330T010000
END:DAYLIGHT
BEGIN:STANDARD
TZOFFSETFROM:+0200
TZOFFSETTO:+0100
TZNAME:CET
DTSTART:20251026T010000
END:STANDARD
BEGIN:DAYLIGHT
TZOFFSETFROM:+0100
TZOFFSETTO:+0200
TZNAME:CEST
DTSTART:20260329T010000
END:DAYLIGHT
BEGIN:STANDARD
TZOFFSETFROM:+0200
TZOFFSETTO:+0100
TZNAME:CET
DTSTART:20261025T010000
END:STANDARD
BEGIN:DAYLIGHT
TZOFFSETFROM:+0100
TZOFFSETTO:+0200
TZNAME:CEST
DTSTART:20270328T010000
END:DAYLIGHT
BEGIN:STANDARD
TZOFFSETFROM:+0200
TZOFFSETTO:+0100
TZNAME:CET
DTSTART:20271031T010000
END:STANDARD
END:VTIMEZONE
BEGIN:VEVENT
DTSTART;TZID=Europe/Berlin:20260117T090000
DTEND;TZID=Europe/Berlin:20260117T170000
DTSTAMP:20260422T113655
CREATED:20241017T052507Z
LAST-MODIFIED:20260109T163322Z
UID:1563-1768640400-1768669200@www.umunumo-freunde-bersenbrueck.de
SUMMARY:Tannenbaum - Aktion Umunumo- Freundeskreis 2026 - 17. Januar 2026 NEUER TERMIN
DESCRIPTION:NEUER TERMIN  !!!!!!!!!!!!!!!!!!!!! 17. Januar 2026\n \n  \n  \nTannenbaum – Aktion Umunumo- Freundeskreis 2026 – 10. Januar 2026 – Entfällt – wetterbedingt\nTreffen ab 8.00 Uhr Marktplatz Bersenbrück
URL:https://www.umunumo-freunde-bersenbrueck.de/event/tannenbaum-aktion-umunumo-freundeskreis-2025-11-januar-2025/
LOCATION:Bersenbrück\, Markt 6\, Bersenbrück\, Niedersachsen\, 49593\, Germany
END:VEVENT
BEGIN:VEVENT
DTSTART;TZID=Europe/Berlin:20260105T190000
DTEND;TZID=Europe/Berlin:20260105T210000
DTSTAMP:20260422T113655
CREATED:20241017T053000Z
LAST-MODIFIED:20250923T103601Z
UID:1568-1767639600-1767646800@www.umunumo-freunde-bersenbrueck.de
SUMMARY:Treffen bei Widu Höckelmann  - 05. Januar 2026
DESCRIPTION:Treffen der Mitglieder des Umunumo – Freundeskreis bei Widu Höckelmann \nTagesordnung wird noch bekannt gegeben.
URL:https://www.umunumo-freunde-bersenbrueck.de/event/treffen-im-pfarrheim-06-januar-2025/
LOCATION:Widu Höckelmann\, Parkstraße 3\, Bersenbrück\, Niedersachsen\, 49593\, Germany
ATTACH;FMTTYPE=image/jpeg:https://www.umunumo-freunde-bersenbrueck.de/wp-content/uploads/2024/10/Logo-Umumuno-2025-Final.jpg
END:VEVENT
BEGIN:VEVENT
DTSTART;TZID=Europe/Berlin:20251107T190000
DTEND;TZID=Europe/Berlin:20251107T230000
DTSTAMP:20260422T113655
CREATED:20241017T052220Z
LAST-MODIFIED:20251011T095718Z
UID:1558-1762542000-1762556400@www.umunumo-freunde-bersenbrueck.de
SUMMARY:Doppelkopf Turnier - 07. November 2025
DESCRIPTION:Doppelkopf Turnier 2025\nUmunumo – Freundeskreis im Pfarrheim –\nAnmeldung ab 18 Uhr möglich
URL:https://www.umunumo-freunde-bersenbrueck.de/event/doppelkopf-turnier-08-november-2024/
LOCATION:Pfarrheim – St. Vincentius\, Stiftshof\, Bersenbrück\, Niedersachsen\, 49593\, Germany
END:VEVENT
BEGIN:VEVENT
DTSTART;TZID=Europe/Berlin:20251103T190000
DTEND;TZID=Europe/Berlin:20251103T220000
DTSTAMP:20260422T113655
CREATED:20250923T102441Z
LAST-MODIFIED:20250923T102948Z
UID:4945-1762196400-1762207200@www.umunumo-freunde-bersenbrueck.de
SUMMARY:Treffen der Mitglieder des Umunumo - Freundeskreis im Pfarrheim - 03. November 2025
DESCRIPTION:Treffen der Mitglieder des Umunumo – Freundeskreis im Pfarrheim – \nTagesordnung wird noch bekannt gegeben.
URL:https://www.umunumo-freunde-bersenbrueck.de/event/treffen-der-mitglieder-des-umunumo-freundeskreis-im-pfarrheim/
LOCATION:Pfarrheim – St. Vincentius\, Stiftshof\, Bersenbrück\, Niedersachsen\, 49593\, Germany
END:VEVENT
BEGIN:VEVENT
DTSTART;TZID=Europe/Berlin:20250212T190000
DTEND;TZID=Europe/Berlin:20250212T210000
DTSTAMP:20260422T113655
CREATED:20250113T065208Z
LAST-MODIFIED:20250113T065448Z
UID:4922-1739386800-1739394000@www.umunumo-freunde-bersenbrueck.de
SUMMARY:Autorenlesung der Bersenbrückerin Autorin Karin Hartel am Mittwoch\, 12. Februar\, ab 19 Uhr im Heimathaus Feldmühle
DESCRIPTION:Die Bersenbrückerin Autorin Karin Hartel hat hier die\nErlebnisse von Helmut Meyer in Wort und Bild zusammengefasst\, der vom 1. Juli bis\n26. September eine Benefizfahrradtour über 8.000 Kilometer quer durch Europa\ngemacht hatte. Sie wird das Buch auf einer Autorenlesung am Mittwoch\, 12. Februar\,\nab 19 Uhr im Heimathaus Feldmühle vorstellen. Unabhängig davon kann das Buch\nschon jetzt für 10 Euro\, wovon rund 4 Euro für das Trinkwasserprojekt Äthiopien\nzugutekommen\, erworben werden. Interessenten wenden sich bitte per E-Mail an\nWidu Höckelmann\, w.hoeckelmann@web.de \, der eine Sammelbestellliste führt.\nSobald eine genügend hohe Anzahl an Bestellungen vorliegt wird zeitnah der Auftrag\nerteilt und anschließend die Auftraggeber informiert\, wobei dann auch die Abhol- und\nZahlungsmodalitäten bekannt gegeben werden.
URL:https://www.umunumo-freunde-bersenbrueck.de/event/autorenlesung-der-bersenbrueckerin-autorin-karin-hartel-am-mittwoch-12-februar-ab-19-uhr-im-heimathaus-feldmuehle/
LOCATION:Heimathaus Feldmühle\, An der Feldmühle\, Bersenbrück\, 49593\, Germany
END:VEVENT
BEGIN:VEVENT
DTSTART;TZID=Europe/Berlin:20241104T190000
DTEND;TZID=Europe/Berlin:20241104T220000
DTSTAMP:20260422T113655
CREATED:20241028T133004Z
LAST-MODIFIED:20241028T133004Z
UID:2345-1730746800-1730757600@www.umunumo-freunde-bersenbrueck.de
SUMMARY:Reisebericht Benefiz - Radfahrer Helmut Mey 04.11.2024 Pfarrheim
DESCRIPTION:Einladung zum Bildervortrag Helmut Meyer© umunumo-freunde-bersenbrück.de
URL:https://www.umunumo-freunde-bersenbrueck.de/event/reisebericht-benefiz-radfahrer-helmut-mey-04-11-2024-pfarrheim/
LOCATION:Pfarrheim – St. Vincentius\, Stiftshof\, Bersenbrück\, Niedersachsen\, 49593\, Germany
END:VEVENT
END:VCALENDAR